BEGIN:VCALENDAR
VERSION:2.0
PRODID:-//ChamberMaster//Event Calendar 2.0//EN
METHOD:PUBLISH
X-PUBLISHED-TTL:P3D
REFRESH-INTERVAL:P3D
CALSCALE:GREGORIAN
BEGIN:VEVENT
DTSTART:20200826T230000Z
DTEND:20200827T003000Z
X-MICROSOFT-CDO-ALLDAYEVENT:FALSE
SUMMARY:Women Empowered Social
DESCRIPTION:A BIG Social Event is coming up soon...\n\nIt's happy hour networking to a different tune!\n\nThe Gilbert Chamber is giving it's all...\n\n& Women Empowered will ensure it's a ball!\n\n\n\nIf you're ready for networking and ready for a blast\, relationship building and friendships that last...\n\nPrizes\, laughter\, conversations galore...\n\nLet's empower each other and so much more! \n\n\n\nWe are taking "virtual" to the next level of great...\n\n	Enjoy small group connections and networking!\n	Compete in a trivia contest for a chance to win great prizes!\n	Be entered into a drawing just for attending! (Trivia game winners get 5 additional drawing entries.)\n\n\n\nGrand prize drawing is a gift certificate for a Spa Day from Colair Beauty Lounge and MedSpa! \n\n \n\nRegister now...you won't want to wait!
X-ALT-DESC;FMTTYPE=text/html:<span style="font-size:16px\;">A <strong>BIG</strong> Social Event is coming up soon...<br />\nIt&#39\;s happy hour networking to a different tune!<br />\nThe Gilbert Chamber is giving it&#39\;s all...<br />\n&amp\; Women Empowered will ensure it&#39\;s a ball!<br />\n<br />\nIf you&#39\;re ready for networking and ready for a blast\, relationship building and friendships that last...<br />\nPrizes\, laughter\, conversations galore...<br />\nLet&#39\;s empower each other and so much more!&nbsp\;<br />\n<br />\n<strong>We are taking &quot\;virtual&quot\; to the next level of great...</strong></span>\n<ul>\n	<li><span style="font-size: 16px\; font-family: inherit\; color: rgb(5\, 5\, 5)\; white-space: pre-wrap\;">Enjoy small group connections and networking!</span></li>\n	<li><span style="font-size: 16px\; font-family: inherit\; color: rgb(5\, 5\, 5)\; white-space: pre-wrap\;"><span style="font-size:16px\;">Compete in a trivia contest for a chance to win great prizes!</span></span></li>\n	<li><span style="font-size: 16px\; font-family: inherit\; color: rgb(5\, 5\, 5)\; white-space: pre-wrap\;"><span style="font-size:16px\;"><span style="font-size:16px\;">Be entered into a drawing just for attending! (Trivia game winners get 5 additional drawing entries.)</span></span></span></li>\n</ul>\n\n<div class="o9v6fnle cxmmr5t8 oygrvhab hcukyx3x c1et5uql ii04i59q" style="overflow-wrap: break-word\; margin: 0.5em 0px 0px\; white-space: pre-wrap\; font-family: &quot\;Segoe UI Historic&quot\;\, &quot\;Segoe UI&quot\;\, Helvetica\, Arial\, sans-serif\; color: rgb(5\, 5\, 5)\; font-size: 15px\;">\n<div dir="auto" style="font-family: inherit\;"><span style="font-size:16px\;"><strong>Grand prize drawing is a gift certificate for a Spa Day from Colair Beauty Lounge and MedSpa! </strong></span></div>\n\n<div>&nbsp\;</div>\n</div>\n<span style="font-size:16px\;"><strong>Register now...you won&#39\;t want to wait!&nbsp\;</strong></span>
LOCATION:Virtual Event This event will be hosted on Zoom. Please register and be sure to enter a valid e-mail address. Attendees will be sent a link by e-mail 24 hours prior to the event.
UID:e.1886.5396
SEQUENCE:3
DTSTAMP:20260424T105252Z
URL:https://business.gilbertaz.com/events/details/women-empowered-social-5396
END:VEVENT

END:VCALENDAR
