BEGIN:VCALENDAR
VERSION:2.0
PRODID:-//ChamberMaster//Event Calendar 2.0//EN
METHOD:PUBLISH
X-PUBLISHED-TTL:P3D
REFRESH-INTERVAL:P3D
CALSCALE:GREGORIAN
BEGIN:VEVENT
DTSTART:20240415T183000Z
DTEND:20240415T200000Z
X-MICROSOFT-CDO-ALLDAYEVENT:FALSE
SUMMARY:Women Empowered Book Club - Launch
DESCRIPTION:Join us for the Women Empowered Book Club! Come deep dive into this spring's book selection while connecting with other professionals. The Book Club launches on Monday\, April 15th and continues over the span of several weeks\, meeting every Monday through May 20th.  Come share your thoughts\, network\, and discuss ideas from the book.\n\n\n\nThe Book Club's reading material was chosen and is being moderated by the Women Empowered Committee. The selected book for this spring is AT YOUR BEST by Carey Nieuwhof.     \n\n\n\nA limited menu will be available for attendees to purchase their own lunch and drinks from our host\, Peacock Wine & Book Bar.   As with our Fall Book Club\, we are excited to share that the selected book is also available for purchase through this year's Title Sponsor of the WE Book Club\, Literally\, A Bookshop.   Chamber members receive a 10% discount on their purchase.  You can also arrange to have your book delivered\, or pick it up directly at our host location\, Peacock Wine & Book Bar.  Click the link below to purchase your copy of AT YOUR BEST today!\n\n\n\nhttps://www.literallybookshop.com/gilbert-chamber\n\n \n\n**Please Note that due to the Gilbert Chamber Foundation's Charity Golf Tournament\, the book club WILL NOT meet on Monday\, May 6th**
X-ALT-DESC;FMTTYPE=text/html:<span style="color: rgb(51\, 51\, 51)\; font-family: arial\; font-size: 14px\;">Join us for the Women Empowered Book Club! Come deep dive into this spring&#39\;s book selection while connecting with other professionals. The Book Club launches on Monday\, April 15th and continues over the span of several weeks\, meeting every Monday through May 20th.&nbsp\; Come share your thoughts\, network\, and discuss ideas from the book.</span><br style="color: rgb(51\, 51\, 51)\; font-family: arial\; font-size: 14px\;" />\n<br style="color: rgb(51\, 51\, 51)\; font-family: arial\; font-size: 14px\;" />\n<span style="color: rgb(51\, 51\, 51)\; font-family: arial\; font-size: 14px\;">The Book Club&#39\;s reading material was chosen and is being moderated by the Women Empowered Committee. The selected book for this spring is AT YOUR BEST by Carey Nieuwhof.&nbsp\; &nbsp\; &nbsp\;</span><br style="color: rgb(51\, 51\, 51)\; font-family: arial\; font-size: 14px\;" />\n<br style="color: rgb(51\, 51\, 51)\; font-family: arial\; font-size: 14px\;" />\n<span style="color: rgb(51\, 51\, 51)\; font-family: arial\; font-size: 14px\;">A limited menu will be available for attendees to purchase their own lunch and drinks from our host\, Peacock Wine &amp\; Book Bar.&nbsp\; &nbsp\;As with our Fall Book Club\, we are excited to share that the selected book is also available for purchase through this year&#39\;s Title Sponsor of the WE Book Club\, Literally\, A Bookshop.&nbsp\; &nbsp\;Chamber members receive a 10% discount on their purchase.&nbsp\; You can also arrange to have your book delivered\, or pick it up directly at our host location\, Peacock Wine &amp\; Book Bar.&nbsp\; Click the link below to purchase your copy of AT YOUR BEST today!</span><br style="color: rgb(51\, 51\, 51)\; font-family: sans-serif\, Arial\, Verdana\, &quot\;Trebuchet MS&quot\;\; font-size: 13px\;" />\n<br style="color: rgb(51\, 51\, 51)\; font-family: sans-serif\, Arial\, Verdana\, &quot\;Trebuchet MS&quot\;\; font-size: 13px\;" />\n<a href="https://www.literallybookshop.com/gilbert-chamber">https://www.literallybookshop.com/gilbert-chamber</a><br />\n<span style="color: rgb(51\, 51\, 51)\; font-size: 13px\; font-family: calibri\, sans-serif\;"><span style="font-size: 11pt\;">&nbsp\;</span></span><br />\n**Please Note that due to the Gilbert Chamber Foundation&#39\;s Charity Golf Tournament\, the book club WILL NOT meet on Monday\, May 6th**
LOCATION:Peacock Wine & Book Bar 1525 N Gilbert Rd\, C108 Gilbert\, AZ 85234
UID:e.1886.6584
SEQUENCE:3
DTSTAMP:20260425T155107Z
URL:https://business.gilbertaz.com/events/details/women-empowered-book-club-launch-6584
END:VEVENT

END:VCALENDAR
