BEGIN:VCALENDAR
VERSION:2.0
PRODID:-//ChamberMaster//Event Calendar 2.0//EN
METHOD:PUBLISH
X-PUBLISHED-TTL:P3D
REFRESH-INTERVAL:P3D
CALSCALE:GREGORIAN
BEGIN:VEVENT
DTSTART:20250210T183000Z
DTEND:20250210T200000Z
X-MICROSOFT-CDO-ALLDAYEVENT:FALSE
SUMMARY:Women Empowered Book Club Kickoff (CHAMBER)
DESCRIPTION:Join us beginning in February  for the next installment of the Women Empowered Book Club!   This Winter we're taking the book club in a new direction with the reading of our first  memoir\, Crying in H Mart  by Michelle Zauner.  The Book Club will launch on Monday\, February 10th and continue over the span of several weeks\, meeting on Mondays through mid-March.  \n\n\n\nWhen you attend this event\, you enter an area where photography\, audio\, and video recording may occur. By attending\, you consent to such recording media and its release\, publication\, exhibition\, or reproduction\, including but not limited to marketing\, promotional purposes\, publication\, distribution\, and public display\, without further authorization or compensation.
X-ALT-DESC;FMTTYPE=text/html:Join us beginning in February&nbsp\; for the next installment of the Women Empowered Book Club!&nbsp\; &nbsp\;This Winter we&#39\;re taking the book club in a new direction with the reading of our first&nbsp\; memoir\,&nbsp\;<u>Crying in H Mart&nbsp\;</u>&nbsp\;by Michelle Zauner.&nbsp\; The Book Club will launch on Monday\, February 10th and continue over the span of several weeks\, meeting on Mondays through mid-March.&nbsp\;&nbsp\;<br />\n<br />\n<em style="font-size: 9px\; box-sizing: border-box\; scrollbar-color: rgb(193\, 193\, 193) rgba(0\, 0\, 0\, 0)\; scrollbar-width: thin\;">When you attend this event\, you enter an area where photography\, audio\, and video recording may occur. By attending\, you consent to such recording media and its release\, publication\, exhibition\, or reproduction\, including but not limited to marketing\, promotional purposes\, publication\, distribution\, and public display\, without further authorization or compensation.&nbsp\;</em>
LOCATION:
UID:e.1886.6725
SEQUENCE:3
DTSTAMP:20260423T060655Z
URL:https://business.gilbertaz.com/events/details/women-empowered-book-club-kickoff-chamber-02-10-2025-6725
END:VEVENT

END:VCALENDAR
