BEGIN:VCALENDAR
VERSION:2.0
PRODID:-//ChamberMaster//Event Calendar 2.0//EN
METHOD:PUBLISH
X-PUBLISHED-TTL:P3D
REFRESH-INTERVAL:P3D
CALSCALE:GREGORIAN
BEGIN:VEVENT
DTSTART:20200824T170000Z
DTEND:20200824T174500Z
X-MICROSOFT-CDO-ALLDAYEVENT:FALSE
SUMMARY:VIRTUAL RIBBON CUTTING - Copper Springs
DESCRIPTION:Join us for a VIRTUAL OPEN HOUSE of Copper Springs. They just opened a new facility in Gilbert.  Help us welcome them to our community! To register for this virtual event please follow the link below:\n\nhttps://zoom.us/meeting/register/tJAtce-qqTgiGNFnrPFJkkvRg08llIq-o4sh
X-ALT-DESC;FMTTYPE=text/html:Join us for a VIRTUAL OPEN HOUSE of Copper Springs. They&nbsp\;just opened a new facility in Gilbert.&nbsp\; Help us welcome them to our community! To register for this virtual event please follow the link below:<br />\n<a href="https://zoom.us/meeting/register/tJAtce-qqTgiGNFnrPFJkkvRg08llIq-o4sh">https://zoom.us/meeting/register/tJAtce-qqTgiGNFnrPFJkkvRg08llIq-o4sh</a>
LOCATION:Virtual Event
UID:e.1886.5405
SEQUENCE:3
DTSTAMP:20260424T105313Z
URL:https://business.gilbertaz.com/events/details/virtual-ribbon-cutting-copper-springs-5405
END:VEVENT

END:VCALENDAR
