BEGIN:VCALENDAR
VERSION:2.0
PRODID:-//ChamberMaster//Event Calendar 2.0//EN
METHOD:PUBLISH
X-PUBLISHED-TTL:P3D
REFRESH-INTERVAL:P3D
CALSCALE:GREGORIAN
BEGIN:VEVENT
DTSTART:20200603T150000Z
DTEND:20200603T161500Z
X-MICROSOFT-CDO-ALLDAYEVENT:FALSE
SUMMARY:VIRTUAL EVENT - Gilbert Leadership Informational Meeting
DESCRIPTION:Gilbert Leadership is now accepting applications for Class XXIX. Join us for a virtual informational meeting as we walk you through the program's objectives\, completion requirements\, learning day experiences\, and more. We will answer your questions and provide an opportunity for you to hear from program alumni as they share their perspective on the program's impact and value. \n\n\n\n"I would highly recommend Gilbert Leadership to anyone who works or lives in Gilbert. It's an awesome way to get to know the community and obtain such a great appreciation for the Town and the people. The monthly learning days are amazing\, organized and FUN! I wish I could go through the program all over again!" - Vicki Kettner\, Class XXVI\n\n\n\nAbout Gilbert Leadership:\n\nFounded in 1991\, Gilbert Leadership brings together individuals with diverse backgrounds and experiences to develop their leadership potential and to expose participants to the issues impacting our community. By understanding the needs and concerns in a wide variety of areas\, these individuals will be better able to contribute their resources to making a difference in many ways. Class applications are accepted between March 1st and July 5th of each year.\n\n\n\nTo learn more or to apply\, visit https://gilbertaz.com/gilbert-leadership
X-ALT-DESC;FMTTYPE=text/html:Gilbert Leadership is now accepting applications for Class XXIX. Join us for a virtual informational meeting as we walk you through the program&#39\;s objectives\, completion requirements\, learning day experiences\, and more. We will answer your questions and provide an opportunity for you to hear from program alumni as they share their perspective on the program&#39\;s impact and value.&nbsp\;<br />\n<br />\n<em>&quot\;I would highly recommend Gilbert Leadership to anyone who works or lives in Gilbert. It&rsquo\;s an awesome way to get to know the community and obtain such a great appreciation for the Town and the people. The monthly learning days are amazing\, organized and FUN! I wish I could go through the program all over again!&quot\;&nbsp\;</em>- Vicki Kettner\, Class XXVI<br />\n<br />\n<strong>About Gilbert Leadership:</strong><br />\nFounded in 1991\, Gilbert Leadership brings together individuals with diverse backgrounds and experiences to develop their leadership potential and to expose participants to the issues impacting our community. By understanding the needs and concerns in a wide variety of areas\, these individuals will be better able to contribute their resources to making a difference in many ways. Class applications are accepted between March 1st and July 5th of each year.<br />\n<br />\nTo learn more or to apply\, visit&nbsp\;<a href="https://gilbertaz.com/gilbert-leadership">https://gilbertaz.com/gilbert-leadership</a>
LOCATION:REGISTER NOW
UID:e.1886.5280
SEQUENCE:3
DTSTAMP:20260424T151215Z
URL:https://business.gilbertaz.com/events/details/virtual-event-gilbert-leadership-informational-meeting-5280
END:VEVENT

END:VCALENDAR
