BEGIN:VCALENDAR
VERSION:2.0
PRODID:-//ChamberMaster//Event Calendar 2.0//EN
METHOD:PUBLISH
X-PUBLISHED-TTL:P3D
REFRESH-INTERVAL:P3D
CALSCALE:GREGORIAN
BEGIN:VEVENT
DTSTART:20250213T230000Z
DTEND:20250214T010000Z
X-MICROSOFT-CDO-ALLDAYEVENT:FALSE
SUMMARY:Tours for Teachers - Our Town: Workforce Development (FOUNDATION)
DESCRIPTION:Designed for Gilbert-area educators\, this program provides insight and resources to help participants better understand current and future workforce needs and trends. Participants tour businesses and industries and engage in facilitated conversations to identify local employers' hiring and education requirements.\n\nPresentations will be given by the following departments:\n\no Police\n\no Fire\n\no Parks & Recreation\n\no Water Resources\n\no Engineering\n\no Human Resources\n\no Information Technology\n\no Development Services\n\no Finance\n\no Budget\n\n \n\nFollowing the presentations and Q&A session\, there will be a tour of the dispatch center and the emergency operations center.\n\n\n\n\nWhen you attend this event\, you enter an area where photography\, audio\, and video recording may occur. By attending\, you consent to such recording media and its release\, publication\, exhibition\, or reproduction\, including but not limited to marketing\, promotional purposes\, publication\, distribution\, and public display\, without further authorization or compensation.
X-ALT-DESC;FMTTYPE=text/html:<p class="xmsonormal">Designed for Gilbert-area educators\, this program provides insight and resources to help participants better understand current and future workforce needs and trends. Participants tour businesses and industries and engage in facilitated conversations to identify local employers&#39\; hiring and education requirements.</p>\n\n<div>Presentations will be given by the following departments:</div>\n\n<div>o<span style="white-space:pre"> </span>Police</div>\n\n<div>o<span style="white-space:pre"> </span>Fire</div>\n\n<div>o<span style="white-space:pre"> </span>Parks &amp\; Recreation</div>\n\n<div>o<span style="white-space:pre"> </span>Water Resources</div>\n\n<div>o<span style="white-space:pre"> </span>Engineering</div>\n\n<div>o<span style="white-space:pre"> </span>Human Resources</div>\n\n<div>o<span style="white-space:pre"> </span>Information Technology</div>\n\n<div>o<span style="white-space:pre"> </span>Development Services</div>\n\n<div>o<span style="white-space:pre"> </span>Finance</div>\n\n<div>o<span style="white-space:pre"> </span>Budget<br />\n&nbsp\;</div>\n\n<div>Following the presentations and Q&amp\;A session\, there will be a tour of the dispatch center and the emergency operations center.</div>\n<br />\n<br />\n<em style="font-size: 9px\; box-sizing: border-box\; scrollbar-color: rgb(193\, 193\, 193) rgba(0\, 0\, 0\, 0)\; scrollbar-width: thin\;">When you attend this event\, you enter an area where photography\, audio\, and video recording may occur. By attending\, you consent to such recording media and its release\, publication\, exhibition\, or reproduction\, including but not limited to marketing\, promotional purposes\, publication\, distribution\, and public display\, without further authorization or compensation.&nbsp\;</em><br />\n&nbsp\;
LOCATION:
UID:e.1886.6758
SEQUENCE:3
DTSTAMP:20260423T045123Z
URL:https://business.gilbertaz.com/events/details/tours-for-teachers-our-town-workforce-development-foundation-6758
END:VEVENT

END:VCALENDAR
