BEGIN:VCALENDAR
VERSION:2.0
PRODID:-//ChamberMaster//Event Calendar 2.0//EN
METHOD:PUBLISH
X-PUBLISHED-TTL:P3D
REFRESH-INTERVAL:P3D
CALSCALE:GREGORIAN
BEGIN:VEVENT
DTSTART:20250227T224000Z
DTEND:20250227T232000Z
X-MICROSOFT-CDO-ALLDAYEVENT:FALSE
SUMMARY:RIBBON CUTTING: Cabinet Solutions
DESCRIPTION:Join Cabinet Solutions and the Gilbert Chamber of Commerce In-person or VIRTUALLY via FACEBOOK LIVE online for the Ribbon Cutting of this business.\n\n\n\nWatch for us to go LIVE at 4:00 pm on Facebook at https://www.facebook.com/GilbertChamber\n\n\n\nWe love to support and celebrate the opening of new businesses in Gilbert and we welcome all members of the Gilbert community to attend our in-person ribbon cuttings! Ribbon cuttings are a celebration and support of the business and induction into the Chamber. Arrive 20 minutes before we go LIVE to introduce yourself to the business. The LIVE ceremony will begin right at the LIVE posted time. After each LIVE taping of a ribbon-cutting celebration\, please plan to stay an additional 20 to 30 minutes to mingle and network with the business and guests.\n\n\n\nAbout Cabinet Solutions:\n\nProviding cabinet styles for kitchens\, bathrooms\, home offices and more.  Been serving the greater Phoenix area for over 20 years.  Gilbert is one of our newest locations.\n\n\n\nWhen you attend this event\, you enter an area where photography\, audio\, and video recording may occur. By attending\, you consent to such recording media and its release\, publication\, exhibition\, or reproduction\, including but not limited to marketing\, promotional purposes\, publication\, distribution\, and public display\, without further authorization or compensation.
X-ALT-DESC;FMTTYPE=text/html:<span style="font-family:arial\;"><span style="font-size:12px\;"><span style="color:#000000\;"><span style="background:white\;">Join Cabinet Solutions</span></span></span></span><span style="font-family:arial\;"><span style="font-size:12px\;"><span style="color:#000000\;"><span style="background:white\;">&nbsp\;and the Gilbert Chamber of Commerce In-person or VIRTUALLY&nbsp\;<strong>via</strong> <strong><em>FACEBOOK LIVE</em></strong> online for the&nbsp\;Ribbon Cutting of this business.<br />\n<br />\nWatch for us to go LIVE at 4:00 pm on Facebook at&nbsp\;</span></span><a href="https://www.facebook.com/GilbertChamber"><span style="color:#0000FF\;">https://www.facebook.com/GilbertChamber</span></a></span></span><br />\n<br />\nWe love to support and celebrate the opening of new businesses in Gilbert and we welcome all members of the Gilbert community to attend our in-person ribbon cuttings! Ribbon cuttings are a celebration and support of the business and induction into the Chamber. Arrive 20 minutes before we go LIVE to introduce yourself to the business. The LIVE ceremony will begin right at the LIVE posted time. After each LIVE taping of a ribbon-cutting celebration\, please plan to stay an additional 20 to 30 minutes to mingle and network with the business and guests.<br />\n<br />\n<span style="font-family: arial\; font-size: 12px\; font-weight: 700\; box-sizing: border-box\; border-width: 0px\; border-style: solid\; border-color: rgb(199\, 198\, 197)\; outline: 0px\; color: rgb(0\, 0\, 0)\;">About Cabinet Solutions</span><span style="font-family: arial\; font-size: 12px\; font-weight: 700\; box-sizing: border-box\; border-width: 0px\; border-style: solid\; border-color: rgb(199\, 198\, 197)\; color: rgb(0\, 0\, 0)\;">:</span><br />\nProviding cabinet styles for kitchens\, bathrooms\, home offices and more.&nbsp\; Been serving the greater Phoenix area for over 20 years.&nbsp\; Gilbert is one of our newest locations.<br />\n<br />\n<em style="font-size: 9px\; box-sizing: border-box\; scrollbar-color: rgb(193\, 193\, 193) rgba(0\, 0\, 0\, 0)\; scrollbar-width: thin\;">When you attend this event\, you enter an area where photography\, audio\, and video recording may occur. By attending\, you consent to such recording media and its release\, publication\, exhibition\, or reproduction\, including but not limited to marketing\, promotional purposes\, publication\, distribution\, and public display\, without further authorization or compensation.&nbsp\;</em><br />\n<br />\n<br />\n<br />\n<br />\n&nbsp\;
LOCATION:3545 E Williams Field Rd Suite 111 Gilbert\, AZ 85295
UID:e.1886.6772
SEQUENCE:3
DTSTAMP:20260423T045920Z
URL:https://business.gilbertaz.com/events/details/ribbon-cutting-cabinet-solutions-6772
END:VEVENT

END:VCALENDAR
