BEGIN:VCALENDAR
VERSION:2.0
PRODID:-//ChamberMaster//Event Calendar 2.0//EN
METHOD:PUBLISH
X-PUBLISHED-TTL:P3D
REFRESH-INTERVAL:P3D
CALSCALE:GREGORIAN
BEGIN:VEVENT
DTSTART:20250227T230000Z
DTEND:20250228T010000Z
X-MICROSOFT-CDO-ALLDAYEVENT:FALSE
SUMMARY:POSTPONED Tours for Teachers - After Hours (FOUNDATION)
DESCRIPTION:Designed for Gilbert-area educators\, this program provides insight and resources to help participants better understand current and future workforce needs and trends. Participants tour businesses and industries and engage in facilitated conversations to identify local employers' hiring and education requirements.\n\n \n\n\n\n\nWhen you attend this event\, you enter an area where photography\, audio\, and video recording may occur. By attending\, you consent to such recording media and its release\, publication\, exhibition\, or reproduction\, including but not limited to marketing\, promotional purposes\, publication\, distribution\, and public display\, without further authorization or compensation.
X-ALT-DESC;FMTTYPE=text/html:<p class="xmsonormal">Designed for Gilbert-area educators\, this program provides insight and resources to help participants better understand current and future workforce needs and trends. Participants tour businesses and industries and engage in facilitated conversations to identify local employers&#39\; hiring and education requirements.</p>\n\n<p class="xmsonormal">&nbsp\;</p>\n<br />\n<br />\n<em style="font-size: 9px\; box-sizing: border-box\; scrollbar-color: rgb(193\, 193\, 193) rgba(0\, 0\, 0\, 0)\; scrollbar-width: thin\;">When you attend this event\, you enter an area where photography\, audio\, and video recording may occur. By attending\, you consent to such recording media and its release\, publication\, exhibition\, or reproduction\, including but not limited to marketing\, promotional purposes\, publication\, distribution\, and public display\, without further authorization or compensation.&nbsp\;</em><br />\n&nbsp\;
LOCATION:
UID:e.1886.6727
SEQUENCE:3
DTSTAMP:20260423T060319Z
URL:https://business.gilbertaz.com/events/details/postponed-tours-for-teachers-after-hours-foundation-6727
END:VEVENT

END:VCALENDAR
