BEGIN:VCALENDAR
VERSION:2.0
PRODID:-//ChamberMaster//Event Calendar 2.0//EN
METHOD:PUBLISH
X-PUBLISHED-TTL:P3D
REFRESH-INTERVAL:P3D
CALSCALE:GREGORIAN
BEGIN:VEVENT
DTSTART:20200501T203000Z
DTEND:20200501T220000Z
X-MICROSOFT-CDO-ALLDAYEVENT:FALSE
SUMMARY:POSTPONED - Chamber Chat & Golf Tournament After-Party
DESCRIPTION:This event has been postponed. More information to be provided as soon as we are able to confirm an alternate date!\n\n\n\nNot a golfer? That's okay! Come join us for the tournament after-party\, presented by Woodard Construction\, and enjoy lunch\, the tournament awards presentation\, and auction.
X-ALT-DESC;FMTTYPE=text/html:<i>This event has been postponed. More information to be provided as soon as we are able to confirm an alternate date!</i><br />\n<br />\nNot a golfer? That&#39\;s okay! Come join us for the tournament after-party\, presented by Woodard Construction\, and enjoy lunch\, the tournament awards presentation\, and auction.
LOCATION:Superstition Mountain Golf and Country Club 8000 E Club Village Dr. Gold Canyon\, AZ 85118
UID:e.1886.5267
SEQUENCE:3
DTSTAMP:20260424T161052Z
URL:https://business.gilbertaz.com/events/details/postponed-chamber-chat-golf-tournament-after-party-5267
END:VEVENT

END:VCALENDAR
