BEGIN:VCALENDAR
VERSION:2.0
PRODID:-//ChamberMaster//Event Calendar 2.0//EN
METHOD:PUBLISH
X-PUBLISHED-TTL:P3D
REFRESH-INTERVAL:P3D
CALSCALE:GREGORIAN
BEGIN:VEVENT
DTSTART:20260511T150000Z
DTEND:20260511T163000Z
X-MICROSOFT-CDO-ALLDAYEVENT:FALSE
SUMMARY:Overview: Northwest Redevelopment Plan
DESCRIPTION:Please join us for a focused group discussion as part of the Gilbert Northwest Redevelopment Plan engagement week! Breakfast will be provided.\n\n \nAbout the Plan:\n\nThe Gilbert Northwest Redevelopment Plan will serve as a strategic framework for reinvestment in one of Gilbert's most established neighborhoods\, addressing infrastructure\, economic development\, and quality of life for residents and businesses alike. Your input will shape the future of the Gilbert Northwest community. To learn more about the planning effort\, please visit the project website at GilbertNW.com.\n\n\nWhat to Expect:\n\nThe focus group meeting will take place in person at the Gilbert Chamber of Commerce office. The planning team will facilitate a group discussion on the focus area and ask questions specific to Gilbert Northwest.
X-ALT-DESC;FMTTYPE=text/html:Please join us for a focused group discussion as part of the Gilbert Northwest Redevelopment Plan engagement week! Breakfast will be provided.<br />\n&nbsp\;\n<p><strong>About the Plan:</strong></p>\n\n<p>The Gilbert Northwest Redevelopment Plan will serve as a strategic framework for reinvestment in one of Gilbert&#39\;s most established neighborhoods\, addressing infrastructure\, economic development\, and quality of life for residents and businesses alike. Your input will shape the future of the Gilbert Northwest community.&nbsp\;To learn more about the planning effort\, please visit the project website at&nbsp\;<a data-auth="NotApplicable" data-linkindex="0" href="https://nam02.safelinks.protection.outlook.com/?url=https%3A%2F%2Fwww.gilbertnw.com%2F&amp\;data=05%7C02%7Csarah%40gilbertchamber.com%7C43e50a8549074528431d08de9f0ce286%7C72823a287a11476fa4a6036a7a751846%7C0%7C0%7C639123074894253085%7CUnknown%7CTWFpbGZsb3d8eyJFbXB0eU1hcGkiOnRydWUsIlYiOiIwLjAuMDAwMCIsIlAiOiJXaW4zMiIsIkFOIjoiTWFpbCIsIldUIjoyfQ%3D%3D%7C0%7C%7C%7C&amp\;sdata=3%2BGE6i3y8Qq3xslvzJgXZr%2BcI74dkzIWycGPxfkbrQI%3D&amp\;reserved=0" originalsrc="https://www.gilbertnw.com/" title="Original URL: https://www.gilbertnw.com/. Click or tap if you trust this link.">GilbertNW.com</a>.</p>\n<br />\n<strong>What to Expect:</strong>\n\n<p>The focus group meeting will take place in person at the Gilbert Chamber of Commerce office. The planning team will facilitate a group discussion on the focus area and ask questions specific to Gilbert Northwest.</p>\n
LOCATION:Gilbert Chamber of Commerce Boardroom 119 N. Gilbert Road\, Ste. 101 Gilbert\, AZ 85234
UID:e.1886.7078
SEQUENCE:3
DTSTAMP:20260424T093038Z
URL:https://business.gilbertaz.com/events/details/overview-northwest-redevelopment-plan-7078
END:VEVENT

END:VCALENDAR
