BEGIN:VCALENDAR
VERSION:2.0
PRODID:-//ChamberMaster//Event Calendar 2.0//EN
METHOD:PUBLISH
X-PUBLISHED-TTL:P3D
REFRESH-INTERVAL:P3D
CALSCALE:GREGORIAN
BEGIN:VEVENT
DTSTART:20200810T170000Z
DTEND:20200810T180000Z
X-MICROSOFT-CDO-ALLDAYEVENT:FALSE
SUMMARY:Cancelled: Non-Profit Town Hall
DESCRIPTION:This event has been cancelled. Please look for similar events in the near future! \n\n\n\nThank you for registering to join us for this virtual event! Please use this link to confirm your registration and receive access to the webinar\, CLICK HERE.\n\n\n\nOur non-profit community partners are serving a critical role as they respond to the heightened needs of Gilbert-area residents. Join us for a town hall conversation as we bring these organizations together to explore a variety of topics.\n\n\n\nThis webinar will focus on the results of the recent Non-Profit survey\, as well as a roundtable discussion regarding opportunities for collaboration. \n\n\nPresented by Dignity Health\, the Town of Gilbert\, the Gilbert Chamber Foundation\, and the Mesa Chamber of Commerce. Facilitated by Kathleen Dowler\, Director of Community Integration at Dignity Health.
X-ALT-DESC;FMTTYPE=text/html:<div><span style="color:#FF0000\;">This event has been cancelled. Please look for similar events in the near future!&nbsp\;</span><br />\n<br />\nThank you for registering to join us for this virtual event! Please use this link to confirm your registration and receive access to the webinar\, <a href="https://us02web.zoom.us/webinar/register/WN_ARG15cVETrm1vGV_KIRGJA" target="_blank">CLICK HERE</a>.<br />\n<br />\nOur&nbsp\;non-profit community partners are serving a critical role as they respond to the heightened needs of Gilbert-area residents. Join us for a town hall conversation as we bring these organizations together to explore a variety of topics.<br />\n<br />\nThis webinar will focus on the results of the recent Non-Profit survey\, as well as a roundtable discussion regarding opportunities for collaboration.&nbsp\;</div>\n<br />\n<em>Presented by Dignity Health\, the Town of Gilbert\, the Gilbert Chamber Foundation\, and the Mesa Chamber of Commerce. Facilitated by Kathleen Dowler\, Director of Community Integration at Dignity Health.&nbsp\;</em>
LOCATION:This event will be hosted on Zoom. Advance registration with a valid e-mail address is required.
UID:e.1886.5404
SEQUENCE:3
DTSTAMP:20260424T105324Z
URL:https://business.gilbertaz.com/events/details/cancelled-non-profit-town-hall-5404
END:VEVENT

END:VCALENDAR
