BEGIN:VCALENDAR
VERSION:2.0
PRODID:-//ChamberMaster//Event Calendar 2.0//EN
METHOD:PUBLISH
X-PUBLISHED-TTL:P3D
REFRESH-INTERVAL:P3D
CALSCALE:GREGORIAN
BEGIN:VEVENT
DTSTART:20200617T180000Z
DTEND:20200617T193000Z
X-MICROSOFT-CDO-ALLDAYEVENT:FALSE
SUMMARY:Annual Business Awards Luncheon - Live Broadcast
DESCRIPTION:At this annual celebration\, we deliver the Chamber's Year In Review\, honor the volunteers who serve the Chamber\, and announce the recipients of this year's Annual Business Awards\, including Businessman and Businesswoman of the Year.\n\n\n\nAnnouncing our 2020 Annual Business Award Finalists!\n\n\n\n2020 Company Finalists:\n\nBanner Health\n\nColair Beauty Lounge and MedSpa\n\nDignity Health\n\nDurfee Law Group\n\nFine Breger Agency\n\nImagine 3D Mini Golf\n\nMidwest Food Bank\n\nPS Academy Arizona\n\nQuail Park at Morrison Ranch\n\n\n\n2020 Individual Finalists\n\nJacqueline Breger\, Fine Breger Agency\n\nDeb Carr\n\nKami Cothrun\, PS Academy Arizona\n\nKevin De Rosa\, Advance Champion Supply\n\nRick Durfee\, Durfee Law Group\n\nLorana Ellard\, Keller Williams\n\nAndrew John\, John's Refrigeration\n\nBrigette Peterson\n\nCraig Scharf\, LifeQuest Physical Medicine and Rehab\n\nJan Simon\, Foundation Insurance Services\n\nDallas Sloan\, Colair Beauty Lounge and MedSpa\n\n\n\n\n\n\n\nJoin previous winners (2019 and 2018 winners respectively): Chamber Volunteer of the Year   Emily Staples of FASTSIGNS and Robin Hall of East Valley Relay for Life\; Foundation Volunteer of the Year   Barb Dwyer\; Gilbert Leadership Award   Rudy Apodaca of Dignity Health and Candy Body of Resource Leadership Group\; Businesswoman of the Year   Elaine Kessler of Elaine Kessler Photography and Stacey Coronado of 20 Volume Salon\; Businessman of the Year   Ralph Willet of Willet CPA and Brett Manning of Silent-Aire USA\; Employer of Choice   Gilbert Public Schools and San Tan Ford\; Small Business of the Year   910 West and The Nitro Live Icecreamery\; Mid-Size Business of the Year   Arizona Veterinary Oncology and School of Rock\; and Large Business of the Year   Northrop Grumman and Phoenix-Mesa Gateway Airport.
X-ALT-DESC;FMTTYPE=text/html:<strong><span style="color:black\;"><span style="font-family:arial\,sans-serif\;"><span style="font-size:11.0pt\;">At this annual celebration\, we deliver the Chamber&#39\;s Year In Review\, honor the volunteers who serve the Chamber\, and announce the recipients of this year&#39\;s Annual Business Awards\, including Businessman and Businesswoman of the Year.</span></span></span></strong><br />\n<br />\n<span style="font-family:arial\,sans-serif\;"><span style="font-size:11.0pt\;">Announcing our 2020 Annual Business Award Finalists!<br />\n<br />\n<u><em><strong>2020 Company Finalists:</strong></em></u><br />\nBanner Health<br />\nColair Beauty Lounge and MedSpa<br />\nDignity Health<br />\nDurfee Law Group<br />\nFine Breger Agency<br />\nImagine 3D Mini Golf<br />\nMidwest Food Bank<br />\nPS Academy Arizona<br />\nQuail Park at Morrison Ranch<br />\n<br />\n<u><em><strong>2020 Individual Finalists</strong></em></u><br />\nJacqueline Breger\, <em>Fine Breger Agency</em><br />\nDeb Carr<br />\nKami Cothrun\, <em>PS Academy Arizona</em><br />\nKevin De Rosa\, <em>Advance Champion Supply</em><br />\nRick Durfee\, <em>Durfee Law Group</em><br />\nLorana Ellard\, <em>Keller Williams</em><br />\nAndrew John\, <em>John&#39\;s Refrigeration</em><br />\nBrigette Peterson<br />\nCraig Scharf\, <em>LifeQuest Physical Medicine and Rehab</em><br />\nJan Simon\, <em>Foundation Insurance Services</em><br />\nDallas Sloan\, <em>Colair Beauty Lounge and MedSpa</em></span></span><br />\n<br />\n<br />\n<br />\n<span style="font-family: arial\, sans-serif\; font-size: 14.6667px\;">Join previous winners (2019 and 2018 winners respectively):&nbsp\;</span><strong style="font-family: arial\, sans-serif\; font-size: 14.6667px\;">Chamber Volunteer of the Year</strong><span style="font-family: arial\, sans-serif\; font-size: 14.6667px\;">&nbsp\;&ndash\; Emily Staples of FASTSIGNS and Robin Hall of East Valley Relay for Life\;&nbsp\;</span><strong style="font-family: arial\, sans-serif\; font-size: 14.6667px\;">Foundation Volunteer of the Year</strong><span style="font-family: arial\, sans-serif\; font-size: 14.6667px\;">&nbsp\;&ndash\; Barb Dwyer\;&nbsp\;</span><strong style="font-family: arial\, sans-serif\; font-size: 14.6667px\;">Gilbert Leadership Award</strong><span style="font-family: arial\, sans-serif\; font-size: 14.6667px\;">&nbsp\;&ndash\; Rudy Apodaca of Dignity Health and Candy Body of Resource Leadership Group\;&nbsp\;</span><strong style="font-family: arial\, sans-serif\; font-size: 14.6667px\;">Businesswoman of the Year</strong><span style="font-family: arial\, sans-serif\; font-size: 14.6667px\;">&nbsp\;&ndash\; Elaine Kessler of Elaine Kessler Photography and Stacey Coronado of 20 Volume Salon\;&nbsp\;</span><strong style="font-family: arial\, sans-serif\; font-size: 14.6667px\;">Businessman of the Year</strong><span style="font-family: arial\, sans-serif\; font-size: 14.6667px\;">&nbsp\;&ndash\; Ralph Willet of Willet CPA and Brett Manning of Silent-Aire USA\;&nbsp\;</span><strong style="font-family: arial\, sans-serif\; font-size: 14.6667px\;">Employer of Choice</strong><span style="font-family: arial\, sans-serif\; font-size: 14.6667px\;">&nbsp\;&ndash\; Gilbert Public Schools and San Tan Ford\;&nbsp\;</span><strong style="font-family: arial\, sans-serif\; font-size: 14.6667px\;">Small Business of the Year</strong><span style="font-family: arial\, sans-serif\; font-size: 14.6667px\;">&nbsp\;&ndash\; 910 West and The Nitro Live Icecreamery\;&nbsp\;</span><strong style="font-family: arial\, sans-serif\; font-size: 14.6667px\;">Mid-Size Business of the Year</strong><span style="font-family: arial\, sans-serif\; font-size: 14.6667px\;">&nbsp\;&ndash\; Arizona Veterinary Oncology and School of Rock\; and&nbsp\;</span><strong style="font-family: arial\, sans-serif\; font-size: 14.6667px\;">Large Business of the Year</strong><span style="font-family: arial\, sans-serif\; font-size: 14.6667px\;">&nbsp\;&ndash\; Northrop Grumman and Phoenix-Mesa Gateway Airport.&nbsp\;&nbsp\;</span><br />\n&nbsp\;
LOCATION:This event will be broadcast live from Life Community Church in Gilbert. Please join us online to celebrate this year's award finalists!
UID:e.1886.5285
SEQUENCE:3
DTSTAMP:20260423T095308Z
URL:https://business.gilbertaz.com/events/details/annual-business-awards-luncheon-live-broadcast-5285
END:VEVENT

END:VCALENDAR
