BEGIN:VCALENDAR
VERSION:2.0
PRODID:-//ChamberMaster//Event Calendar 2.0//EN
METHOD:PUBLISH
X-PUBLISHED-TTL:P3D
REFRESH-INTERVAL:P3D
CALSCALE:GREGORIAN
BEGIN:VEVENT
DTSTART:20160114T140000Z
DTEND:20160114T160000Z
X-MICROSOFT-CDO-ALLDAYEVENT:FALSE
SUMMARY:2016 East Valley Breakfast with the Governor
DESCRIPTION:The East Valley Chambers of Commerce Alliance and East Valley Partnership invite you to attend this special event featuring the Honorable Doug Ducey.
X-ALT-DESC;FMTTYPE=text/html:The East Valley Chambers of Commerce Alliance and East Valley Partnership invite you to attend this special event featuring the Honorable Doug Ducey.&nbsp\;
LOCATION:Hilton Phoenix-Mesa 1011 West Holmes Avenue\, Mesa
UID:e.1886.1639
SEQUENCE:3
DTSTAMP:20260425T135240Z
URL:https://business.gilbertaz.com/events/details/2016-east-valley-breakfast-with-the-governor-01-14-2016-1639
END:VEVENT

END:VCALENDAR
